Package: MetNet Version: 1.26.3 Command: rm -rf MetNet.buildbin-libdir && mkdir MetNet.buildbin-libdir && /Users/biocbuild/BBS/utils/build-universal.sh MetNet_1.26.3.tar.gz /Library/Frameworks/R.framework/Resources/bin/R MetNet.buildbin-libdir StartedAt: 2025-10-11 21:00:58 -0400 (Sat, 11 Oct 2025) EndedAt: 2025-10-11 21:01:36 -0400 (Sat, 11 Oct 2025) EllapsedTime: 37.3 seconds RetCode: 0 Status: OK PackageFile: MetNet_1.26.3.tgz PackageFileSize: 4.373 MiB