Package: MetMashR Version: 1.4.0 Command: /home/biocbuild/bbs-3.22-bioc/R/bin/R CMD INSTALL MetMashR StartedAt: 2025-11-11 15:36:19 -0500 (Tue, 11 Nov 2025) EndedAt: 2025-11-11 15:36:51 -0500 (Tue, 11 Nov 2025) EllapsedTime: 31.5 seconds RetCode: 0 Status: OK