Package: MetMashR Version: 1.4.0 Command: /home/biocbuild/bbs-3.22-bioc/R/bin/R CMD build --keep-empty-dirs --no-resave-data --md5 MetMashR StartedAt: 2025-11-11 18:44:42 -0500 (Tue, 11 Nov 2025) EndedAt: 2025-11-11 18:49:25 -0500 (Tue, 11 Nov 2025) EllapsedTime: 283.2 seconds RetCode: 0 Status: OK PackageFile: MetMashR_1.4.0.tar.gz PackageFileSize: 6.064 MiB