Package: MetMashR Version: 1.4.0 Command: /Library/Frameworks/R.framework/Resources/bin/R CMD INSTALL MetMashR StartedAt: 2025-11-03 15:34:22 -0500 (Mon, 03 Nov 2025) EndedAt: 2025-11-03 15:35:08 -0500 (Mon, 03 Nov 2025) EllapsedTime: 45.8 seconds RetCode: 0 Status: OK