Package: MetMashR Version: 1.2.1 Command: /home/biocbuild/R/R/bin/R CMD INSTALL MetMashR StartedAt: 2025-10-09 20:47:35 -0000 (Thu, 09 Oct 2025) EndedAt: 2025-10-09 20:48:22 -0000 (Thu, 09 Oct 2025) EllapsedTime: 47.5 seconds RetCode: 0 Status: OK