Package: MetID Version: 1.28.0 Command: /home/biocbuild/bbs-3.22-bioc/R/bin/R CMD INSTALL MetID StartedAt: 2025-11-20 16:03:29 -0500 (Thu, 20 Nov 2025) EndedAt: 2025-11-20 16:03:40 -0500 (Thu, 20 Nov 2025) EllapsedTime: 10.8 seconds RetCode: 0 Status: OK