Package: MetID Version: 1.28.0 Command: /home/biocbuild/bbs-3.22-bioc/R/bin/R CMD build --keep-empty-dirs --no-resave-data --md5 MetID StartedAt: 2025-11-20 19:28:27 -0500 (Thu, 20 Nov 2025) EndedAt: 2025-11-20 19:28:58 -0500 (Thu, 20 Nov 2025) EllapsedTime: 31.0 seconds RetCode: 0 Status: OK PackageFile: MetID_1.28.0.tar.gz PackageFileSize: 1.505 MiB