Package: MetCirc Version: 1.40.0 Command: /home/biocbuild/bbs-3.22-bioc/R/bin/R CMD check --install=check:MetCirc.install-out.txt --library=/home/biocbuild/bbs-3.22-bioc/R/site-library --timings MetCirc_1.40.0.tar.gz StartedAt: 2025-11-15 01:31:13 -0500 (Sat, 15 Nov 2025) EndedAt: 2025-11-15 01:35:19 -0500 (Sat, 15 Nov 2025) EllapsedTime: 246.2 seconds RetCode: 0 Status: OK CheckDir: MetCirc.Rcheck Warnings: 0