Package: MetCirc Version: 1.40.0 Command: /home/biocbuild/bbs-3.22-bioc/R/bin/R CMD build --keep-empty-dirs --no-resave-data --md5 MetCirc StartedAt: 2025-11-11 18:39:52 -0500 (Tue, 11 Nov 2025) EndedAt: 2025-11-11 18:40:55 -0500 (Tue, 11 Nov 2025) EllapsedTime: 63.1 seconds RetCode: 0 Status: OK PackageFile: MetCirc_1.40.0.tar.gz PackageFileSize: 2.069 MiB