Package: MetCirc Version: 1.40.0 Command: /Library/Frameworks/R.framework/Resources/bin/R CMD INSTALL MetCirc StartedAt: 2025-11-03 15:21:26 -0500 (Mon, 03 Nov 2025) EndedAt: 2025-11-03 15:21:44 -0500 (Mon, 03 Nov 2025) EllapsedTime: 18.3 seconds RetCode: 0 Status: OK