Package: MetCirc Version: 1.40.0 Command: rm -rf MetCirc.buildbin-libdir && mkdir MetCirc.buildbin-libdir && /Users/biocbuild/BBS/utils/build-universal.sh MetCirc_1.40.0.tar.gz /Library/Frameworks/R.framework/Resources/bin/R MetCirc.buildbin-libdir StartedAt: 2025-11-04 01:48:59 -0500 (Tue, 04 Nov 2025) EndedAt: 2025-11-04 01:49:24 -0500 (Tue, 04 Nov 2025) EllapsedTime: 24.2 seconds RetCode: 0 Status: OK PackageFile: MetCirc_1.40.0.tgz PackageFileSize: 1.924 MiB