Package: MetCirc Version: 1.38.0 Command: /home/biocbuild/R/R/bin/R CMD build --keep-empty-dirs --no-resave-data MetCirc StartedAt: 2025-10-10 02:16:42 -0000 (Fri, 10 Oct 2025) EndedAt: 2025-10-10 02:18:13 -0000 (Fri, 10 Oct 2025) EllapsedTime: 91.0 seconds RetCode: 0 Status: OK PackageFile: MetCirc_1.38.0.tar.gz PackageFileSize: 2.131 MiB