Package: MesKit Version: 1.20.0 Command: /home/biocbuild/R/R/bin/R CMD INSTALL MesKit StartedAt: 2025-11-13 21:38:03 -0000 (Thu, 13 Nov 2025) EndedAt: 2025-11-13 21:38:34 -0000 (Thu, 13 Nov 2025) EllapsedTime: 30.5 seconds RetCode: 0 Status: OK