Package: MesKit Version: 1.20.0 Command: /home/biocbuild/R/R/bin/R CMD build --keep-empty-dirs --no-resave-data MesKit StartedAt: 2025-11-14 03:05:04 -0000 (Fri, 14 Nov 2025) EndedAt: 2025-11-14 03:07:18 -0000 (Fri, 14 Nov 2025) EllapsedTime: 133.1 seconds RetCode: 0 Status: OK PackageFile: MesKit_1.20.0.tar.gz PackageFileSize: 2.776 MiB