Package: MesKit Version: 1.20.0 Command: /home/biocbuild/bbs-3.22-bioc/R/bin/R CMD build --keep-empty-dirs --no-resave-data --md5 MesKit StartedAt: 2025-11-11 18:37:44 -0500 (Tue, 11 Nov 2025) EndedAt: 2025-11-11 18:39:17 -0500 (Tue, 11 Nov 2025) EllapsedTime: 93.1 seconds RetCode: 0 Status: OK PackageFile: MesKit_1.20.0.tar.gz PackageFileSize: 3.782 MiB