Package: MesKit Version: 1.18.0 Command: /Library/Frameworks/R.framework/Resources/bin/R CMD build --keep-empty-dirs --no-resave-data MesKit StartedAt: 2025-10-13 20:19:58 -0400 (Mon, 13 Oct 2025) EndedAt: 2025-10-13 20:23:17 -0400 (Mon, 13 Oct 2025) EllapsedTime: 199.2 seconds RetCode: 0 Status: OK PackageFile: MesKit_1.18.0.tar.gz PackageFileSize: 4.021 MiB