Package: MesKit Version: 1.18.0 Command: rm -rf MesKit.buildbin-libdir && mkdir MesKit.buildbin-libdir && /Users/biocbuild/BBS/utils/build-universal.sh MesKit_1.18.0.tar.gz /Library/Frameworks/R.framework/Resources/bin/R MesKit.buildbin-libdir StartedAt: 2025-10-14 13:57:51 -0400 (Tue, 14 Oct 2025) EndedAt: 2025-10-14 13:59:44 -0400 (Tue, 14 Oct 2025) EllapsedTime: 113.5 seconds RetCode: 0 Status: OK PackageFile: MesKit_1.18.0.tgz PackageFileSize: 4.149 MiB