Package: MesKit Version: 1.18.0 Command: /Library/Frameworks/R.framework/Resources/bin/R CMD INSTALL MesKit StartedAt: 2025-09-25 15:50:43 -0400 (Thu, 25 Sep 2025) EndedAt: 2025-09-25 15:51:09 -0400 (Thu, 25 Sep 2025) EllapsedTime: 26.5 seconds RetCode: 0 Status: OK