Package: Mergeomics Version: 1.38.0 Command: /home/biocbuild/bbs-3.22-bioc/R/bin/R CMD INSTALL Mergeomics StartedAt: 2025-11-11 15:06:09 -0500 (Tue, 11 Nov 2025) EndedAt: 2025-11-11 15:06:19 -0500 (Tue, 11 Nov 2025) EllapsedTime: 9.7 seconds RetCode: 0 Status: OK