Package: Mergeomics Version: 1.36.0 Command: /home/biocbuild/bbs-3.21-bioc/R/bin/R CMD INSTALL Mergeomics StartedAt: 2025-10-01 15:04:51 -0400 (Wed, 01 Oct 2025) EndedAt: 2025-10-01 15:05:01 -0400 (Wed, 01 Oct 2025) EllapsedTime: 9.7 seconds RetCode: 0 Status: OK