Package: Mergeomics Version: 1.36.0 Command: /Library/Frameworks/R.framework/Resources/bin/R CMD INSTALL Mergeomics StartedAt: 2025-10-13 15:05:39 -0400 (Mon, 13 Oct 2025) EndedAt: 2025-10-13 15:05:56 -0400 (Mon, 13 Oct 2025) EllapsedTime: 17.5 seconds RetCode: 0 Status: OK