Package: Mergeomics Version: 1.36.0 Command: /Library/Frameworks/R.framework/Resources/bin/R CMD INSTALL Mergeomics StartedAt: 2025-10-02 15:07:39 -0400 (Thu, 02 Oct 2025) EndedAt: 2025-10-02 15:07:44 -0400 (Thu, 02 Oct 2025) EllapsedTime: 5.1 seconds RetCode: 0 Status: OK