Package: Melissa Version: 1.26.0 Command: /home/biocbuild/bbs-3.22-bioc/R/bin/R CMD INSTALL Melissa StartedAt: 2025-11-06 15:31:58 -0500 (Thu, 06 Nov 2025) EndedAt: 2025-11-06 15:32:17 -0500 (Thu, 06 Nov 2025) EllapsedTime: 18.4 seconds RetCode: 0 Status: OK