Package: Melissa Version: 1.26.0 Command: /home/biocbuild/bbs-3.22-bioc/R/bin/R CMD build --keep-empty-dirs --no-resave-data --md5 Melissa StartedAt: 2025-11-06 18:31:32 -0500 (Thu, 06 Nov 2025) EndedAt: 2025-11-06 18:34:13 -0500 (Thu, 06 Nov 2025) EllapsedTime: 161.2 seconds RetCode: 0 Status: OK PackageFile: Melissa_1.26.0.tar.gz PackageFileSize: 2.792 MiB