Package: MeasurementError.cor Version: 1.82.0 Command: /home/biocbuild/bbs-3.22-bioc/R/bin/R CMD INSTALL MeasurementError.cor StartedAt: 2025-11-13 15:03:09 -0500 (Thu, 13 Nov 2025) EndedAt: 2025-11-13 15:03:19 -0500 (Thu, 13 Nov 2025) EllapsedTime: 10.2 seconds RetCode: 0 Status: OK