Package: MeasurementError.cor Version: 1.82.0 Command: /home/biocbuild/bbs-3.22-bioc/R/bin/R CMD build --keep-empty-dirs --no-resave-data --md5 MeasurementError.cor StartedAt: 2025-11-13 18:34:44 -0500 (Thu, 13 Nov 2025) EndedAt: 2025-11-13 18:34:50 -0500 (Thu, 13 Nov 2025) EllapsedTime: 6.0 seconds RetCode: 0 Status: OK PackageFile: MeasurementError.cor_1.82.0.tar.gz PackageFileSize: 151.5 KiB