Package: MeasurementError.cor Version: 1.80.0 Command: /Library/Frameworks/R.framework/Resources/bin/R CMD INSTALL MeasurementError.cor StartedAt: 2025-10-09 15:04:46 -0400 (Thu, 09 Oct 2025) EndedAt: 2025-10-09 15:05:13 -0400 (Thu, 09 Oct 2025) EllapsedTime: 26.5 seconds RetCode: 0 Status: OK