Package: MeasurementError.cor Version: 1.80.0 Command: rm -rf MeasurementError.cor.buildbin-libdir && mkdir MeasurementError.cor.buildbin-libdir && /Users/biocbuild/BBS/utils/build-universal.sh MeasurementError.cor_1.80.0.tar.gz /Library/Frameworks/R.framework/Resources/bin/R MeasurementError.cor.buildbin-libdir StartedAt: 2025-10-10 13:57:01 -0400 (Fri, 10 Oct 2025) EndedAt: 2025-10-10 13:57:11 -0400 (Fri, 10 Oct 2025) EllapsedTime: 9.9 seconds RetCode: 0 Status: OK PackageFile: MeasurementError.cor_1.80.0.tgz PackageFileSize: 173.6 KiB