Package: MeSHDbi Version: 1.46.0 Command: /home/biocbuild/bbs-3.22-bioc/R/bin/R CMD check --install=check:MeSHDbi.install-out.txt --library=/home/biocbuild/bbs-3.22-bioc/R/site-library --timings MeSHDbi_1.46.0.tar.gz StartedAt: 2025-11-18 05:42:55 -0500 (Tue, 18 Nov 2025) EndedAt: 2025-11-18 05:44:29 -0500 (Tue, 18 Nov 2025) EllapsedTime: 94.1 seconds RetCode: 0 Status: OK CheckDir: MeSHDbi.Rcheck Warnings: 0