Package: MeSHDbi Version: 1.46.0 Command: /Library/Frameworks/R.framework/Resources/bin/R CMD INSTALL MeSHDbi StartedAt: 2025-11-03 15:32:31 -0500 (Mon, 03 Nov 2025) EndedAt: 2025-11-03 15:32:48 -0500 (Mon, 03 Nov 2025) EllapsedTime: 17.0 seconds RetCode: 0 Status: OK