Package: MeSHDbi Version: 1.46.0 Command: rm -rf MeSHDbi.buildbin-libdir && mkdir MeSHDbi.buildbin-libdir && /Users/biocbuild/BBS/utils/build-universal.sh MeSHDbi_1.46.0.tar.gz /Library/Frameworks/R.framework/Resources/bin/R MeSHDbi.buildbin-libdir StartedAt: 2025-11-04 01:48:25 -0500 (Tue, 04 Nov 2025) EndedAt: 2025-11-04 01:48:46 -0500 (Tue, 04 Nov 2025) EllapsedTime: 20.5 seconds RetCode: 0 Status: OK PackageFile: MeSHDbi_1.46.0.tgz PackageFileSize: 534.7 KiB