Package: MeSHDbi Version: 1.44.0 Command: /home/biocbuild/R/R/bin/R CMD INSTALL MeSHDbi StartedAt: 2025-10-13 20:44:53 -0000 (Mon, 13 Oct 2025) EndedAt: 2025-10-13 20:45:10 -0000 (Mon, 13 Oct 2025) EllapsedTime: 17.0 seconds RetCode: 0 Status: OK