Package: MeSHDbi Version: 1.44.0 Command: /home/biocbuild/R/R/bin/R CMD build --keep-empty-dirs --no-resave-data MeSHDbi StartedAt: 2025-10-14 02:13:30 -0000 (Tue, 14 Oct 2025) EndedAt: 2025-10-14 02:13:49 -0000 (Tue, 14 Oct 2025) EllapsedTime: 19.0 seconds RetCode: 0 Status: OK PackageFile: MeSHDbi_1.44.0.tar.gz PackageFileSize: 115.1 KiB