Package: MatrixRider Version: 1.42.0 Command: /home/biocbuild/bbs-3.22-bioc/R/bin/R CMD build --keep-empty-dirs --no-resave-data --md5 MatrixRider StartedAt: 2025-11-11 18:34:23 -0500 (Tue, 11 Nov 2025) EndedAt: 2025-11-11 18:35:15 -0500 (Tue, 11 Nov 2025) EllapsedTime: 52.0 seconds RetCode: 0 Status: OK PackageFile: MatrixRider_1.42.0.tar.gz PackageFileSize: 264.8 KiB