Package: MatrixRider Version: 1.40.0 Command: /home/biocbuild/R/R/bin/R CMD INSTALL MatrixRider StartedAt: 2025-10-13 21:08:10 -0000 (Mon, 13 Oct 2025) EndedAt: 2025-10-13 21:09:02 -0000 (Mon, 13 Oct 2025) EllapsedTime: 52.2 seconds RetCode: 0 Status: OK