Package: MatrixRider Version: 1.40.0 Command: /home/biocbuild/R/R/bin/R CMD build --keep-empty-dirs --no-resave-data MatrixRider StartedAt: 2025-10-14 02:09:18 -0000 (Tue, 14 Oct 2025) EndedAt: 2025-10-14 02:10:28 -0000 (Tue, 14 Oct 2025) EllapsedTime: 70.0 seconds RetCode: 0 Status: OK PackageFile: MatrixRider_1.40.0.tar.gz PackageFileSize: 251.5 KiB