Package: MatrixQCvis Version: 1.16.0 Command: /home/biocbuild/R/R/bin/R CMD INSTALL MatrixQCvis StartedAt: 2025-10-02 20:50:55 -0000 (Thu, 02 Oct 2025) EndedAt: 2025-10-02 20:51:49 -0000 (Thu, 02 Oct 2025) EllapsedTime: 54.0 seconds RetCode: 0 Status: OK