Package: MatrixQCvis Version: 1.16.0 Command: rm -rf MatrixQCvis.buildbin-libdir && mkdir MatrixQCvis.buildbin-libdir && /Users/biocbuild/BBS/utils/build-universal.sh MatrixQCvis_1.16.0.tar.gz /Library/Frameworks/R.framework/Resources/bin/R MatrixQCvis.buildbin-libdir StartedAt: 2025-04-21 22:40:51 -0400 (Mon, 21 Apr 2025) EndedAt: 2025-04-21 22:41:10 -0400 (Mon, 21 Apr 2025) EllapsedTime: 18.4 seconds RetCode: 0 Status: OK PackageFile: MatrixQCvis_1.16.0.tgz PackageFileSize: 5.019 MiB