Package: MatrixQCvis Version: 1.16.0 Command: /Library/Frameworks/R.framework/Resources/bin/R CMD build --keep-empty-dirs --no-resave-data MatrixQCvis StartedAt: 2025-10-14 03:31:06 -0400 (Tue, 14 Oct 2025) EndedAt: 2025-10-14 03:34:10 -0400 (Tue, 14 Oct 2025) EllapsedTime: 183.6 seconds RetCode: 0 Status: OK PackageFile: MatrixQCvis_1.16.0.tar.gz PackageFileSize: 4.79 MiB