Package: MatrixGenerics Version: 1.22.0 Command: /home/biocbuild/R/R/bin/R CMD INSTALL MatrixGenerics StartedAt: 2025-11-10 21:05:20 -0000 (Mon, 10 Nov 2025) EndedAt: 2025-11-10 21:05:57 -0000 (Mon, 10 Nov 2025) EllapsedTime: 37.4 seconds RetCode: 0 Status: OK