Package: MatrixGenerics Version: 1.22.0 Command: /home/biocbuild/R/R/bin/R CMD build --keep-empty-dirs --no-resave-data MatrixGenerics StartedAt: 2025-11-11 02:55:04 -0000 (Tue, 11 Nov 2025) EndedAt: 2025-11-11 02:55:06 -0000 (Tue, 11 Nov 2025) EllapsedTime: 2.0 seconds RetCode: 0 Status: OK PackageFile: MatrixGenerics_1.22.0.tar.gz PackageFileSize: 31.22 KiB