Package: MatrixGenerics Version: 1.22.0 Command: /home/biocbuild/bbs-3.22-bioc/R/bin/R CMD build --keep-empty-dirs --no-resave-data --md5 MatrixGenerics StartedAt: 2025-11-11 18:34:19 -0500 (Tue, 11 Nov 2025) EndedAt: 2025-11-11 18:34:20 -0500 (Tue, 11 Nov 2025) EllapsedTime: 1.0 seconds RetCode: 0 Status: OK PackageFile: MatrixGenerics_1.22.0.tar.gz PackageFileSize: 33.79 KiB