Package: MatrixGenerics Version: 1.20.0 Command: /home/biocbuild/bbs-3.21-bioc/R/bin/R CMD INSTALL MatrixGenerics StartedAt: 2025-09-28 15:18:56 -0400 (Sun, 28 Sep 2025) EndedAt: 2025-09-28 15:19:15 -0400 (Sun, 28 Sep 2025) EllapsedTime: 18.5 seconds RetCode: 0 Status: OK