Package: MatrixGenerics Version: 1.20.0 Command: /Library/Frameworks/R.framework/Resources/bin/R CMD INSTALL MatrixGenerics StartedAt: 2025-10-02 15:07:10 -0400 (Thu, 02 Oct 2025) EndedAt: 2025-10-02 15:07:42 -0400 (Thu, 02 Oct 2025) EllapsedTime: 32.1 seconds RetCode: 0 Status: OK