Package: MatrixGenerics Version: 1.20.0 Command: /home/biocbuild/R/R/bin/R CMD build --keep-empty-dirs --no-resave-data MatrixGenerics StartedAt: 2025-09-26 03:19:46 -0000 (Fri, 26 Sep 2025) EndedAt: 2025-09-26 03:19:47 -0000 (Fri, 26 Sep 2025) EllapsedTime: 1.0 seconds RetCode: 0 Status: OK PackageFile: MatrixGenerics_1.20.0.tar.gz PackageFileSize: 31.24 KiB