Package: MassSpecWavelet Version: 1.76.0 Command: /home/biocbuild/R/R/bin/R CMD INSTALL MassSpecWavelet StartedAt: 2025-11-13 21:02:24 -0000 (Thu, 13 Nov 2025) EndedAt: 2025-11-13 21:02:34 -0000 (Thu, 13 Nov 2025) EllapsedTime: 10.5 seconds RetCode: 0 Status: OK