Package: MassSpecWavelet Version: 1.76.0 Command: /home/biocbuild/R/R/bin/R CMD build --keep-empty-dirs --no-resave-data MassSpecWavelet StartedAt: 2025-11-14 02:58:32 -0000 (Fri, 14 Nov 2025) EndedAt: 2025-11-14 02:59:40 -0000 (Fri, 14 Nov 2025) EllapsedTime: 68.0 seconds RetCode: 0 Status: OK PackageFile: MassSpecWavelet_1.76.0.tar.gz PackageFileSize: 1.32 MiB