Package: MassSpecWavelet Version: 1.74.0 Command: /home/biocbuild/bbs-3.21-bioc/R/bin/R CMD INSTALL MassSpecWavelet StartedAt: 2025-10-01 15:04:50 -0400 (Wed, 01 Oct 2025) EndedAt: 2025-10-01 15:05:04 -0400 (Wed, 01 Oct 2025) EllapsedTime: 13.7 seconds RetCode: 0 Status: OK