Package: MassSpecWavelet Version: 1.74.0 Command: /Library/Frameworks/R.framework/Resources/bin/R CMD INSTALL MassSpecWavelet StartedAt: 2025-10-13 15:05:37 -0400 (Mon, 13 Oct 2025) EndedAt: 2025-10-13 15:05:48 -0400 (Mon, 13 Oct 2025) EllapsedTime: 11.0 seconds RetCode: 0 Status: OK