Package: MassSpecWavelet Version: 1.74.0 Command: /Library/Frameworks/R.framework/Resources/bin/R CMD INSTALL MassSpecWavelet StartedAt: 2025-10-02 15:07:23 -0400 (Thu, 02 Oct 2025) EndedAt: 2025-10-02 15:07:28 -0400 (Thu, 02 Oct 2025) EllapsedTime: 4.8 seconds RetCode: 0 Status: OK